BEGIN:VCALENDAR
VERSION:2.0
PRODID:-//Saalfelden-Leogang.com//NONSGML kigkonsult.se iCalcreator 2.22.1/
 /EN
METHOD:PUBLISH
X-WR-CALNAME;LANGUAGE=en:Saalfelden-Leogang.com
X-WR-CALDESC;LANGUAGE=en:Saalfelden-Leogang.com
X-WR-TIMEZONE;LANGUAGE=en:Europe/Berlin
BEGIN:VEVENT
UID:20260419T142811CEST-9073sXPTHU@Saalfelden-Leogang.com
DTSTAMP:20260419T122811Z
DESCRIPTION;LANGUAGE=en:Austria\n\n\n\nMona Matbou Riahi - clarinet\, fx\n
 \nDorian Concept - synthesizer\, electronics\n\nManu Mayr - bass\, fx\n\nL
 ou Zon - visual art\n\n\n\nCommission from Jazzfestival Saalfelden for Mon
 a Matbou Riahi\n\n\n\n\n\nFrom the age of 17\, Iranian clarinetist Mona Ma
 tbou Riahi has called Vienna “her playground\, where she blossoms as a per
 former\, composer and improviser.” With the premiere of her project “Nebul
 ift” in this year’s opening concert\, she will transform Saalfelden’s cong
 ress hall into a “spacey\, atmospheric\, experimental\, overall dreamy” so
 und-space. Together with Dorian Concept\, bassist Manu Mayr and Lou Zon on
  visuals\, she wants to react “without rules\, to each other and with each
  other” – in a continuous set that unfolds carefully across composed parts
  and improvisations\, with “different textures and stations\, like floatin
 g on lucid dreamscapes”.
DTSTART:20240823T154500Z
DTEND:20240823T164500Z
LOCATION;LANGUAGE=en:Congress Saalfelden
SUMMARY;LANGUAGE=en:Mona Matbou Riahi
END:VEVENT
END:VCALENDAR
